BEGIN:VCALENDAR
VERSION:2.0
PRODID:-//Tukios.com/
BEGIN:VEVENT
UID:5d0d20cd-eb27-4a12-9462-512e4a1da14e@www.shackelfordfuneraldirectors.com
DTSTAMP:20260421T210932Z
DTSTART:20260423T180000Z
DTEND:20260423T190000Z
SUMMARY:Funeral Service
DESCRIPTION:
URL:https://www.shackelfordfuneraldirectors.com/obituaries/bobby-ray
LOCATION: 160 West Cypress Avenue  Selmer TN 38375
GEO:35.1689862;-88.5946847
END:VEVENT
END:VCALENDAR