BEGIN:VCALENDAR
VERSION:2.0
PRODID:-//Tukios.com/
BEGIN:VEVENT
UID:f7902674-e7fc-42c9-aeed-e8c7b6a31407@www.shackelfordfuneraldirectors.com
DTSTAMP:20260421T211058Z
DTSTART:20260423
SUMMARY:Interment
DESCRIPTION:
URL:https://www.shackelfordfuneraldirectors.com/obituaries/bobby-ray
LOCATION: 3320 Main St  Bethel Springs TN 38315
GEO:35.2152303;-88.6043592
END:VEVENT
END:VCALENDAR