BEGIN:VCALENDAR
VERSION:2.0
PRODID:-//Tukios.com/
BEGIN:VEVENT
UID:62b76131-ad6d-4be8-9a5f-62ea5d42dbb8@www.shackelfordfuneraldirectors.com
DTSTAMP:20260421T210932Z
DTSTART:20260422T223000Z
DTEND:20260423T013000Z
SUMMARY:Visitation
DESCRIPTION:
URL:https://www.shackelfordfuneraldirectors.com/obituaries/bobby-ray
LOCATION: 160 West Cypress Avenue  Selmer TN 38375
GEO:35.1689862;-88.5946847
END:VEVENT
END:VCALENDAR