BEGIN:VCALENDAR
VERSION:2.0
PRODID:-//Tukios.com/
BEGIN:VEVENT
UID:33ca99e1-9971-426e-92cb-19769b297774@www.shackelfordfuneraldirectors.com
DTSTAMP:20260421T210927Z
DTSTART:20260423T130000Z
DTEND:20260423T180000Z
SUMMARY:Visitation
DESCRIPTION:
URL:https://www.shackelfordfuneraldirectors.com/obituaries/bobby-ray
LOCATION: 160 West Cypress Avenue  Selmer TN 38375
GEO:35.1689862;-88.5946847
END:VEVENT
END:VCALENDAR