BEGIN:VCALENDAR
VERSION:2.0
PRODID:-//Tukios.com/
BEGIN:VEVENT
UID:aade4f64-ceaf-4f83-b27f-c42beac56598@www.shackelfordfuneraldirectors.com
DTSTAMP:20260424T204253Z
DTSTART:20260428T170000Z
DTEND:20260428T190000Z
SUMMARY:Visitation
DESCRIPTION:
URL:https://www.shackelfordfuneraldirectors.com/obituaries/gary-hester
LOCATION: 1800 Cave Springs Road  Henderson TN 38340
GEO:35.3339456;-88.7223684
END:VEVENT
END:VCALENDAR