BEGIN:VCALENDAR
VERSION:2.0
PRODID:-//Tukios.com/
BEGIN:VEVENT
UID:5eb626f0-90e7-42fb-a4bc-dd97a0cc5f8c@www.shackelfordfuneraldirectors.com
DTSTAMP:20260424T204253Z
DTSTART:20260428T190000Z
DTEND:20260428T200000Z
SUMMARY:Funeral Service
DESCRIPTION:
URL:https://www.shackelfordfuneraldirectors.com/obituaries/gary-hester
LOCATION: 1800 Cave Springs Road  Henderson TN 38340
GEO:35.3339456;-88.7223684
END:VEVENT
END:VCALENDAR