BEGIN:VCALENDAR
VERSION:2.0
PRODID:-//Tukios.com/
BEGIN:VEVENT
UID:ca1039a8-7620-4360-a6db-d360ff46e68c@www.shackelfordfuneraldirectors.com
DTSTAMP:20260424T204303Z
DTSTART:20260428T200000Z
DTEND:20260428T210000Z
SUMMARY:Burial
DESCRIPTION:
URL:https://www.shackelfordfuneraldirectors.com/obituaries/gary-hester
LOCATION: 1800 Cave Springs Road  Henderson TN 38340
GEO:35.3339456;-88.7223684
END:VEVENT
END:VCALENDAR