BEGIN:VCALENDAR
VERSION:2.0
PRODID:-//Tukios.com/
BEGIN:VEVENT
UID:5b883cfb-d933-4dac-8536-b40b55ca01ac@www.shackelfordfuneraldirectors.com
DTSTAMP:20260420T222734Z
DTSTART:20260424T220000Z
DTEND:20260425T000000Z
SUMMARY:Visitation
DESCRIPTION:
URL:https://www.shackelfordfuneraldirectors.com/obituaries/grady-britt
LOCATION: 450 Church Street  Savannah TN 38372
GEO:35.2300478;-88.2456392
END:VEVENT
END:VCALENDAR