BEGIN:VCALENDAR
VERSION:2.0
PRODID:-//Tukios.com/
BEGIN:VEVENT
UID:b00daa58-c589-4d5c-b5d1-16239fd14667@www.shackelfordfuneraldirectors.com
DTSTAMP:20260420T222825Z
DTSTART:20260425T150000Z
DTEND:20260425T160000Z
SUMMARY:Visitation
DESCRIPTION:
URL:https://www.shackelfordfuneraldirectors.com/obituaries/grady-britt
LOCATION: 450 Church Street  Savannah TN 38372
GEO:35.2300478;-88.2456392
END:VEVENT
END:VCALENDAR