BEGIN:VCALENDAR
VERSION:2.0
PRODID:-//Tukios.com/
BEGIN:VEVENT
UID:e003b752-c450-43a5-b6d7-3b4ef0515930@www.shackelfordfuneraldirectors.com
DTSTAMP:20260420T222734Z
DTSTART:20260425T160000Z
DTEND:20260425T170000Z
SUMMARY:Funeral Service
DESCRIPTION:
URL:https://www.shackelfordfuneraldirectors.com/obituaries/grady-britt
LOCATION: 450 Church Street  Savannah TN 38372
GEO:35.2300478;-88.2456392
END:VEVENT
END:VCALENDAR