BEGIN:VCALENDAR
VERSION:2.0
PRODID:-//Tukios.com/
BEGIN:VEVENT
UID:cf03dc61-7f01-40a7-bec0-d6d3a75b9c69@www.shackelfordfuneraldirectors.com
DTSTAMP:20260420T222734Z
DTSTART:20260425
SUMMARY:Burial
DESCRIPTION:
URL:https://www.shackelfordfuneraldirectors.com/obituaries/grady-britt
LOCATION: 1780 Mt Hermon Rd  Savannah TN 38372
GEO:35.2523856;-88.1738904
END:VEVENT
END:VCALENDAR