BEGIN:VCALENDAR
VERSION:2.0
PRODID:-//Tukios.com/
BEGIN:VEVENT
UID:602467fe-f85b-4411-adbb-622fd87626b3@www.shackelfordfuneraldirectors.com
DTSTAMP:20260420T230505Z
DTSTART:20260421T170000Z
DTEND:20260421T190000Z
SUMMARY:Visitation
DESCRIPTION:
URL:https://www.shackelfordfuneraldirectors.com/obituaries/joe-tidwell
LOCATION: 450 Church Street  Savannah TN 38372
GEO:35.2300478;-88.2456392
END:VEVENT
END:VCALENDAR