BEGIN:VCALENDAR
VERSION:2.0
PRODID:-//Tukios.com/
BEGIN:VEVENT
UID:56786b27-8bab-4a65-b4ab-3d5418802f10@www.shackelfordfuneraldirectors.com
DTSTAMP:20260420T230505Z
DTSTART:20260421T190000Z
DTEND:20260421T200000Z
SUMMARY:Funeral Service
DESCRIPTION:
URL:https://www.shackelfordfuneraldirectors.com/obituaries/joe-tidwell
LOCATION: 450 Church Street  Savannah TN 38372
GEO:35.2300478;-88.2456392
END:VEVENT
END:VCALENDAR