BEGIN:VCALENDAR
VERSION:2.0
PRODID:-//Tukios.com/
BEGIN:VEVENT
UID:a75aa309-269a-4480-8355-8beca973a3f7@www.shackelfordfuneraldirectors.com
DTSTAMP:20260420T230516Z
DTSTART:20260421
SUMMARY:Burial
DESCRIPTION:
URL:https://www.shackelfordfuneraldirectors.com/obituaries/joe-tidwell
LOCATION: Old Cerro Gorto Road  Savannah TN 38372
GEO:35.284924;-88.0837814
END:VEVENT
END:VCALENDAR