BEGIN:VCALENDAR
VERSION:2.0
PRODID:-//Tukios.com/
BEGIN:VEVENT
UID:3ac12529-223f-4c72-b70f-8226edb255c8@www.shackelfordfuneraldirectors.com
DTSTAMP:20260423T202922Z
DTSTART:20260424T160000Z
DTEND:20260424T180000Z
SUMMARY:Visitation
DESCRIPTION:
URL:https://www.shackelfordfuneraldirectors.com/obituaries/peggy-berryman
LOCATION: 7200 Hwy 57  Ramer TN 38367
GEO:35.0692708;-88.6693832
END:VEVENT
END:VCALENDAR