BEGIN:VCALENDAR
VERSION:2.0
PRODID:-//Tukios.com/
BEGIN:VEVENT
UID:6d002052-89e1-402f-85ba-00e1c10e95c9@www.shackelfordfuneraldirectors.com
DTSTAMP:20260423T202922Z
DTSTART:20260424T180000Z
DTEND:20260424T190000Z
SUMMARY:Funeral Service
DESCRIPTION:
URL:https://www.shackelfordfuneraldirectors.com/obituaries/peggy-berryman
LOCATION: 7200 Hwy 57  Ramer TN 38367
GEO:35.0692708;-88.6693832
END:VEVENT
END:VCALENDAR