BEGIN:VCALENDAR
VERSION:2.0
PRODID:-//Tukios.com/
BEGIN:VEVENT
UID:70b9dea5-f83c-4ebe-90af-0d20efdf5836@www.shackelfordfuneraldirectors.com
DTSTAMP:20260423T202922Z
DTSTART:20260424
SUMMARY:Interment
DESCRIPTION:
URL:https://www.shackelfordfuneraldirectors.com/obituaries/peggy-berryman
LOCATION: 7200 Hwy. 57 W.  Ramer TN 38367
GEO:35.0692708;-88.6693832
END:VEVENT
END:VCALENDAR