BEGIN:VCALENDAR
VERSION:2.0
PRODID:-//Tukios.com/
BEGIN:VEVENT
UID:a33407b5-6267-4457-b252-74488f214e64@www.shackelfordfuneraldirectors.com
DTSTAMP:20260425T193645Z
DTSTART:20260426T180000Z
DTEND:20260426T193000Z
SUMMARY:Visitation
DESCRIPTION:
URL:https://www.shackelfordfuneraldirectors.com/obituaries/stephen-king
LOCATION: 160 West Cypress Avenue  Selmer TN 38375
GEO:35.1689862;-88.5946847
END:VEVENT
END:VCALENDAR