BEGIN:VCALENDAR
VERSION:2.0
PRODID:-//Tukios.com/
BEGIN:VEVENT
UID:45a988d8-8e01-49de-a267-407b7e6cd135@www.shackelfordfuneraldirectors.com
DTSTAMP:20260425T193610Z
DTSTART:20260426T200000Z
DTEND:20260426T210000Z
SUMMARY:Graveside Service
DESCRIPTION:
URL:https://www.shackelfordfuneraldirectors.com/obituaries/stephen-king
LOCATION: 6371 Vernie Kirk Rd.  Pocahontas TN 38061
GEO:35.1459715;-88.759377
END:VEVENT
END:VCALENDAR