BEGIN:VCALENDAR
VERSION:2.0
PRODID:-//Tukios.com/
BEGIN:VEVENT
UID:9bf129b6-35fc-4725-a3d8-0b21faae40c8@www.shackelfordfuneraldirectors.com
DTSTAMP:20260425T193543Z
DTSTART:20260426
SUMMARY:Interment
DESCRIPTION:
URL:https://www.shackelfordfuneraldirectors.com/obituaries/stephen-king
LOCATION: 6371 Vernie Kirk Rd.  Pocahontas TN 38061
GEO:35.1459715;-88.759377
END:VEVENT
END:VCALENDAR