BEGIN:VCALENDAR
VERSION:2.0
PRODID:-//Tukios.com/
BEGIN:VEVENT
UID:c9887031-8fc4-47c5-8088-87e994642d0d@www.shackelfordfuneraldirectors.com
DTSTAMP:20260425T003323Z
DTSTART:20260428
SUMMARY:Interment
DESCRIPTION:
URL:https://www.shackelfordfuneraldirectors.com/obituaries/william-thomas
LOCATION: 200 W Shiloh Church Rd.  Stantonville TN 38379
GEO:35.1496274;-88.3850321
END:VEVENT
END:VCALENDAR